BEGIN:VCALENDAR
VERSION:2.0
PRODID:icalendar-ruby
CALSCALE:GREGORIAN
METHOD:PUBLISH
BEGIN:VEVENT
DTSTAMP:20260424T071618Z
UID:299-811075@uumeriden.org
DTSTART:20260612T220000Z
DTEND:20260613T000000Z
CLASS:PUBLIC
CREATED:20260416T173045
DESCRIPTION:Bem-vindos a todos ao Festa dos Santos Populares!  \nWelcome 
 to the Popular Saints Festival \nFriday\, June 12th at 6pm. Celebrate the
  start of summer Portugal-style in honor of St. Anthony\, the patron saint
  of Lisbon\, and St. John\, the patron saint of Porto. Located in Woodbury
 ’s “Little Portugal” neighborhood (a.k.a. Rev. Tony’s backyard)\, 
 partygoers will meet members from the UU Congregation of Danbury and St. P
 aul’s Episcopal Church in Woodbury\, as well as some of the “locals”
  from the neighborhood. Together we'll enjoy festive food and drink\, dec
 orations\, music\, and fun – including tapping each other on the head wi
 th a small plastic mallet.  The menu is delicious\, authentic Portuguese
  street food: sardinhas grelhadas (grilled sardines)\, Bifanas (pork s
 andwiches)\, caldo verde (kale and potato soup)\, malasadas (fried dou
 gh)\, and fresh tomato and cucumber salads\, with pasteis de nata (custa
 rd tarts) for dessert along with plenty of vinho verde (green wine)\, Po
 rtuguese style sangria\, and a selection of Sumol fruit sodas.  \nTwo 
 ways to attend: purchase tickets outright at $100 each or buy a raffle ti
 cket for $5 to be entered in a drawing for a pair of tickets. On sale unt
 il sold out with raffle drawing during the Sunday service on May 24th. Pay
 ment is by cash\, card\, or check.   
LAST-MODIFIED:20260416T173045
LOCATION:
SUMMARY:SPRING FUNDRAISER
URL;VALUE=URI:https://www.uumeriden.org/events/spring-fundraiser/2026-06-12
ATTACH;FILENAME=Spring-Fundraiser.jpg;FMTTYPE=image/jpeg:https://dq5pwpg1q8
 ru0.cloudfront.net/2026/04/16/21/30/45/72a22c7a-834e-4ebd-b78c-4f5ef419f70
 2/Spring-Fundraiser.jpg
END:VEVENT
END:VCALENDAR
